BEGIN:VCALENDAR
VERSION:2.0
PRODID:-//www.vanningmuseum.com//NONSGML kigkonsult.se iCalcreator 2.30.10/
 /
CALSCALE:GREGORIAN
METHOD:PUBLISH
UID:ce87a8ce-3c0e-4ebd-8998-97ef308b5e3a
X-WR-CALDESC:Museum tours\, Chinese auction\, event patches\, dash plaques\
 , event shirts\, ugly sweater contest\, best dressed Christmas outfit. $30
  per person donation\; $25 for Museum members. Thursday Pub Crawl\, Friday
  Night Pizza Party\, Saturday Evening - bring a covered dish. For Reservat
 ions - call Days Inn\, Port Richey\, FL 727-869-9999.
X-WR-RELCALID:d563776e55fda4c567cd6e4734060d32
X-WR-TIMEZONE:America/New_York
BEGIN:VTIMEZONE
TZID:America/New_York
BEGIN:STANDARD
TZNAME:EST
DTSTART:20251102T020000
TZOFFSETFROM:-0400
TZOFFSETTO:-0500
RDATE:20261101T020000
END:STANDARD
BEGIN:DAYLIGHT
TZNAME:EDT
DTSTART:20250309T020000
TZOFFSETFROM:-0500
TZOFFSETTO:-0400
RDATE:20260308T020000
RDATE:20270314T020000
END:DAYLIGHT
END:VTIMEZONE
BEGIN:VEVENT
UID:f2d49c5b-64dd-4bf0-b9f1-b41e7a8e0a52
DTSTAMP:20260420T153428Z
DESCRIPTION:Museum tours\, Chinese auction\, event patches\, dash plaques\,
  event shirts\, ugly sweater contest\, best dressed Christmas outfit. $30 
 per person donation\; $25 for Museum members. Thursday Pub Crawl\, Friday 
 Night Pizza Party\, Saturday Evening - bring a covered dish. For Reservati
 ons - call Days Inn\, Port Richey\, FL 727-869-9999.
DTSTART;TZID=America/New_York:20251211T060000
DTEND;TZID=America/New_York:20251214T060001
LOCATION:
SUMMARY:Museum of Vanning and Hall of Fame Christmas Fund Raiser #10
END:VEVENT
END:VCALENDAR
