BEGIN:VCALENDAR
VERSION:2.0
PRODID:-//www.vanningmuseum.com//NONSGML kigkonsult.se iCalcreator 2.30.10/
 /
CALSCALE:GREGORIAN
METHOD:PUBLISH
UID:c07cb6f4-d6f2-4e2b-b9fc-0f1839aa002a
X-WR-CALDESC:If you are a vanner and coming to the 52 National at Albert Le
 a\, MN\, be sure to visit the Museum of Vanning booth for unique Museum lo
 go items\, vanning collectibles & memorabilia\, plus much more. There will
  also be a presentation 'How Vanning Got a Museum' at 2 pm on Saturday\, J
 uly 12 at the Bar Building on the grounds.
X-WR-RELCALID:ba402646d0519f97f236b9a3b9dcdd68
X-WR-TIMEZONE:America/Chicago
BEGIN:VTIMEZONE
TZID:America/Chicago
BEGIN:STANDARD
TZNAME:CST
DTSTART:20241103T020000
TZOFFSETFROM:-0500
TZOFFSETTO:-0600
RDATE:20251102T020000
RDATE:20261101T020000
END:STANDARD
BEGIN:DAYLIGHT
TZNAME:CDT
DTSTART:20250309T020000
TZOFFSETFROM:-0600
TZOFFSETTO:-0500
RDATE:20260308T020000
END:DAYLIGHT
END:VTIMEZONE
BEGIN:VEVENT
UID:c8b99c9a-0432-4677-9dea-32dd09640283
DTSTAMP:20260421T002504Z
DESCRIPTION:If you are a vanner and coming to the 52 National at Albert Lea
 \, MN\, be sure to visit the Museum of Vanning booth for unique Museum log
 o items\, vanning collectibles & memorabilia\, plus much more. There will 
 also be a presentation 'How Vanning Got a Museum' at 2 pm on Saturday\, Ju
 ly 12 at the Bar Building on the grounds.
DTSTART;TZID=America/Chicago:20250709T090000
DTEND;TZID=America/Chicago:20250712T200000
LOCATION:Freeborn County Fairgrounds\, Albert Lea\, MN 56007 US
SUMMARY:Museum of Vanning Booth at the 52nd National Truck-In®
END:VEVENT
END:VCALENDAR
