BEGIN:VCALENDAR
VERSION:2.0
PRODID:-//www.vanningmuseum.com//NONSGML kigkonsult.se iCalcreator 2.30.10/
 /
CALSCALE:GREGORIAN
METHOD:PUBLISH
UID:8d854e1b-b886-4688-a28e-385243e121d6
X-WR-CALDESC:
X-WR-RELCALID:aa7a02ca9194b07bf0a2a393aef08e64
X-WR-TIMEZONE:America/Chicago
BEGIN:VTIMEZONE
TZID:America/Chicago
BEGIN:STANDARD
TZNAME:CST
DTSTART:20231105T020000
TZOFFSETFROM:-0500
TZOFFSETTO:-0600
RDATE:20241103T020000
RDATE:20251102T020000
END:STANDARD
BEGIN:DAYLIGHT
TZNAME:CDT
DTSTART:20240310T020000
TZOFFSETFROM:-0600
TZOFFSETTO:-0500
RDATE:20250309T020000
END:DAYLIGHT
END:VTIMEZONE
BEGIN:VEVENT
UID:75a38a4f-0f37-4536-831c-652534d89871
DTSTAMP:20260422T180014Z
DESCRIPTION:
DTSTART;TZID=America/Chicago:20240602T120000
DTEND;TZID=America/Chicago:20240602T163000
LOCATION:Brat Stop\, 12304 75th Street\, Kenosha\, WI 53142 US
SUMMARY:County Line Vans 45th Annual Beer Bust
END:VEVENT
END:VCALENDAR
