BEGIN:VCALENDAR
VERSION:2.0
PRODID:-//www.vanningmuseum.com//NONSGML kigkonsult.se iCalcreator 2.30.10/
 /
CALSCALE:GREGORIAN
METHOD:PUBLISH
UID:bc1f85a0-3c06-44d4-af45-60ee8681b88a
X-WR-CALDESC:
X-WR-RELCALID:3a59f29fe25f9bf25a32c4d2a532854a
X-WR-TIMEZONE:America/New_York
BEGIN:VTIMEZONE
TZID:America/New_York
BEGIN:STANDARD
TZNAME:EST
DTSTART:20231105T020000
TZOFFSETFROM:-0400
TZOFFSETTO:-0500
RDATE:20241103T020000
END:STANDARD
BEGIN:DAYLIGHT
TZNAME:EDT
DTSTART:20230312T020000
TZOFFSETFROM:-0500
TZOFFSETTO:-0400
RDATE:20240310T020000
RDATE:20250309T020000
END:DAYLIGHT
END:VTIMEZONE
BEGIN:VEVENT
UID:b7682638-4fed-4d1e-9668-26d578446f87
DTSTAMP:20260420T092424Z
DESCRIPTION:
DTSTART;TZID=America/New_York:20240309T190000
DTEND;TZID=America/New_York:20240310T000000
LOCATION:Grill Fire Company Banquet Hall\, 739 Mountain View Road\, Reading
 \, PA 19607 US
SUMMARY:Moon Lite Vans Presents Snowball 47  Christmas Vancation
END:VEVENT
END:VCALENDAR
