BEGIN:VCALENDAR
VERSION:2.0
PRODID:-//www.vanningmuseum.com//NONSGML kigkonsult.se iCalcreator 2.30.10/
 /
CALSCALE:GREGORIAN
METHOD:PUBLISH
UID:56ee7c4c-4cb4-40ef-b36d-994105aa57a9
X-WR-CALDESC:
X-WR-RELCALID:5dd98d4b18de2efa2242bba98395f569
X-WR-TIMEZONE:America/New_York
BEGIN:VTIMEZONE
TZID:America/New_York
BEGIN:STANDARD
TZNAME:EST
DTSTART:20231105T020000
TZOFFSETFROM:-0400
TZOFFSETTO:-0500
RDATE:20241103T020000
END:STANDARD
BEGIN:DAYLIGHT
TZNAME:EDT
DTSTART:20230312T020000
TZOFFSETFROM:-0500
TZOFFSETTO:-0400
RDATE:20240310T020000
RDATE:20250309T020000
END:DAYLIGHT
END:VTIMEZONE
BEGIN:VEVENT
UID:a63707c5-5d18-4101-b6fe-055585086d84
DTSTAMP:20260422T234533Z
DESCRIPTION:
DTSTART;TZID=America/New_York:20240125T120000
DTEND;TZID=America/New_York:20240128T120000
LOCATION:19730 SE 127 Terrace\, Dunnellon\, FL 34431 US
SUMMARY:Freeze For All #16 by Orlando Street Vans in Dunnellon
END:VEVENT
END:VCALENDAR
