BEGIN:VCALENDAR
VERSION:2.0
PRODID:-//www.vanningmuseum.com//NONSGML kigkonsult.se iCalcreator 2.30.10/
 /
CALSCALE:GREGORIAN
METHOD:PUBLISH
UID:8dfc4e30-06a2-4de9-a08a-d58be4f2fc47
X-WR-CALDESC:Adults $10.00 Kids under 12 $2.00\nGood eats\, good friends\, 
 lots of FUN!\nParking in the rear.
X-WR-RELCALID:08f7ff40132221dd3ceb3133d6d4eeb4
X-WR-TIMEZONE:America/Denver
BEGIN:VTIMEZONE
TZID:America/Denver
BEGIN:STANDARD
TZNAME:MST
DTSTART:20231105T020000
TZOFFSETFROM:-0600
TZOFFSETTO:-0700
RDATE:20241103T020000
END:STANDARD
BEGIN:DAYLIGHT
TZNAME:MDT
DTSTART:20230312T020000
TZOFFSETFROM:-0700
TZOFFSETTO:-0600
RDATE:20240310T020000
RDATE:20250309T020000
END:DAYLIGHT
END:VTIMEZONE
BEGIN:VEVENT
UID:c75884eb-d04a-4d36-bf27-939bc4b7fbb2
DTSTAMP:20260422T034407Z
DESCRIPTION:Adults $10.00 Kids under 12 $2.00\nGood eats\, good friends\, l
 ots of FUN!\nParking in the rear.
DTSTART;TZID=America/Denver:20240120T150000
DTEND;TZID=America/Denver:20240120T220000
LOCATION:16795 W 50th Ave\, Golden\, CO 80403 US
SUMMARY:Colorado VAN Association Presents the 38th Annual Spaghetti Dinner 
 Pasta Party
END:VEVENT
END:VCALENDAR
