BEGIN:VCALENDAR
VERSION:2.0
PRODID:-//www.vanningmuseum.com//NONSGML kigkonsult.se iCalcreator 2.30.10/
 /
CALSCALE:GREGORIAN
METHOD:PUBLISH
UID:f19daf2f-d905-46f1-a7cf-e4e2401cc946
X-WR-CALDESC:Come and show off your van or see other unique vans from the C
 entral Florida & Tampa Bay areas. Registration fee is $15.00. Discounts on
  food at Sam's. Show winners will be announced mid-afternoon.
X-WR-RELCALID:a983198c5b07203ef264f16c3e8f76cc
X-WR-TIMEZONE:America/New_York
BEGIN:VTIMEZONE
TZID:America/New_York
BEGIN:STANDARD
TZNAME:EST
DTSTART:20221106T020000
TZOFFSETFROM:-0400
TZOFFSETTO:-0500
RDATE:20231105T020000
END:STANDARD
BEGIN:DAYLIGHT
TZNAME:EDT
DTSTART:20230312T020000
TZOFFSETFROM:-0500
TZOFFSETTO:-0400
RDATE:20240310T020000
END:DAYLIGHT
END:VTIMEZONE
BEGIN:VEVENT
UID:a0090a5f-8f42-4ffa-ac2b-a3a0b40bb29e
DTSTAMP:20260422T125333Z
DESCRIPTION:Come and show off your van or see other unique vans from the Ce
 ntral Florida & Tampa Bay areas. Registration fee is $15.00. Discounts on 
 food at Sam's. Show winners will be announced mid-afternoon.
DTSTART;TZID=America/New_York:20230430T100000
DTEND;TZID=America/New_York:20230430T170000
LOCATION:Sam's Beach Bar\, Hudson\, Florida
SUMMARY:5th Tax Relief Van Show
END:VEVENT
END:VCALENDAR
