BEGIN:VCALENDAR
VERSION:2.0
PRODID:-//www.vanningmuseum.com//NONSGML kigkonsult.se iCalcreator 2.30.10/
 /
CALSCALE:GREGORIAN
METHOD:PUBLISH
UID:3adceb84-fb64-4b9c-8be6-bb9e114e68f6
X-WR-CALDESC:Food\, Fun\, Museum Trips and Poolside Partying@@
X-WR-RELCALID:3cc23d867bb4d524e090e365b806351b
X-WR-TIMEZONE:America/New_York
BEGIN:VTIMEZONE
TZID:America/New_York
BEGIN:STANDARD
TZNAME:EST
DTSTART:20221106T020000
TZOFFSETFROM:-0400
TZOFFSETTO:-0500
RDATE:20231105T020000
END:STANDARD
BEGIN:DAYLIGHT
TZNAME:EDT
DTSTART:20220313T020000
TZOFFSETFROM:-0500
TZOFFSETTO:-0400
RDATE:20230312T020000
RDATE:20240310T020000
END:DAYLIGHT
END:VTIMEZONE
BEGIN:VEVENT
UID:6a0907dc-5914-4600-8ab1-05631bfe7ae7
DTSTAMP:20260422T054816Z
DESCRIPTION:Food\, Fun\, Museum Trips and Poolside Partying@@
DTSTART;TZID=America/New_York:20221208T080000
DTEND;TZID=America/New_York:20221211T180000
LOCATION:Sixth Annual Museum of Vanning Christmas Party Fundraiser
SUMMARY:7th Annual Christmas Party
END:VEVENT
END:VCALENDAR
