BEGIN:VCALENDAR
VERSION:2.0
PRODID:-//www.vanningmuseum.com//NONSGML kigkonsult.se iCalcreator 2.30.10/
 /
CALSCALE:GREGORIAN
METHOD:PUBLISH
UID:8004bf57-62d0-4af2-a749-b27f16f3fdde
X-WR-CALDESC:Stay tuned for more information.
X-WR-RELCALID:cdcd36ded887a68e5f63b9c0f33180c8
X-WR-TIMEZONE:America/New_York
BEGIN:VTIMEZONE
TZID:America/New_York
BEGIN:STANDARD
TZNAME:EST
DTSTART:20211107T020000
TZOFFSETFROM:-0400
TZOFFSETTO:-0500
RDATE:20221106T020000
END:STANDARD
BEGIN:DAYLIGHT
TZNAME:EDT
DTSTART:20220313T020000
TZOFFSETFROM:-0500
TZOFFSETTO:-0400
RDATE:20230312T020000
END:DAYLIGHT
END:VTIMEZONE
BEGIN:VEVENT
UID:fd8c4b2e-a5ca-45a3-9b8e-40ec214c4c44
DTSTAMP:20260421T145219Z
DESCRIPTION:Stay tuned for more information.
DTSTART;TZID=America/New_York:20220410T110000
DTEND;TZID=America/New_York:20220410T190000
LOCATION:Sam's Beach Bar\, Hudson\, Florida
SUMMARY:4th Annual Tax Relief Van Show
END:VEVENT
END:VCALENDAR
