BEGIN:VCALENDAR
VERSION:2.0
PRODID:-//www.vanningmuseum.com//NONSGML kigkonsult.se iCalcreator 2.30.10/
 /
CALSCALE:GREGORIAN
METHOD:PUBLISH
UID:b83e3698-caad-4176-9cf0-b930c089305f
X-WR-CALDESC:Sponsored by Sam's Beach Bar\, Hudson\, Florida and presented 
 by the Museum of Vanning and Hall of Fame.\n\nTop 10 Peoples Choice awards
 \, great food and music at Sam's Beach Bar\, food discounts\, goodie bags\
 , dash plaques and T-shirts.\n\nThere will be a caravan from the Museum to
  Sam's Beach Bar where the eVANt will be held.  Inquire about details at t
 he email address below.
X-WR-RELCALID:3305036a63e0c6d3b55705963cf20ea8
X-WR-TIMEZONE:America/New_York
BEGIN:VTIMEZONE
TZID:America/New_York
BEGIN:STANDARD
TZNAME:EST
DTSTART:20201101T020000
TZOFFSETFROM:-0400
TZOFFSETTO:-0500
RDATE:20211107T020000
END:STANDARD
BEGIN:DAYLIGHT
TZNAME:EDT
DTSTART:20210314T020000
TZOFFSETFROM:-0500
TZOFFSETTO:-0400
RDATE:20220313T020000
END:DAYLIGHT
END:VTIMEZONE
BEGIN:VEVENT
UID:a17ccde1-4033-444e-b4d8-1a6df708563c
DTSTAMP:20260420T172620Z
DESCRIPTION:Sponsored by Sam's Beach Bar\, Hudson\, Florida and presented b
 y the Museum of Vanning and Hall of Fame.\n\nTop 10 Peoples Choice awards\
 , great food and music at Sam's Beach Bar\, food discounts\, goodie bags\,
  dash plaques and T-shirts.\n\nThere will be a caravan from the Museum to 
 Sam's Beach Bar where the eVANt will be held.  Inquire about details at th
 e email address below.
DTSTART;TZID=America/New_York:20210411T090000
DTEND;TZID=America/New_York:20210411T150000
LOCATION:
SUMMARY:3rd Annual Tax Relief Van Show
END:VEVENT
END:VCALENDAR
