BEGIN:VCALENDAR
VERSION:2.0
PRODID:-//www.vanningmuseum.com//NONSGML kigkonsult.se iCalcreator 2.30.10/
 /
CALSCALE:GREGORIAN
METHOD:PUBLISH
UID:b0592599-4354-4c0a-be56-23199b5bd212
X-WR-CALDESC:THIS EVENT WILL BE POSTPONED INDEFINITELY DUE TO THE CORONA VI
 RUS - COVID 19 PANDEMIC.\n\nTop 10 Peoples Choice awards\, great food and 
 music at Sam's Beach Bar\, food discounts\, goodie bags\, dash plaques and
  T-shirts.\n\nThere will be a caravan from the Museum to Sam's Beach Bar w
 here the eVANt will be held.  Inquire about details at the email address b
 elow.
X-WR-RELCALID:7fb9d339766577f9808f6e3d45323927
X-WR-TIMEZONE:America/New_York
BEGIN:VTIMEZONE
TZID:America/New_York
BEGIN:STANDARD
TZNAME:EST
DTSTART:20191103T020000
TZOFFSETFROM:-0400
TZOFFSETTO:-0500
RDATE:20201101T020000
END:STANDARD
BEGIN:DAYLIGHT
TZNAME:EDT
DTSTART:20200308T020000
TZOFFSETFROM:-0500
TZOFFSETTO:-0400
RDATE:20210314T020000
END:DAYLIGHT
END:VTIMEZONE
BEGIN:VEVENT
UID:0d6007c5-b9f6-4075-9ae4-efa9c9f76b88
DTSTAMP:20260420T065311Z
DESCRIPTION:THIS EVENT WILL BE POSTPONED INDEFINITELY DUE TO THE CORONA VIR
 US - COVID 19 PANDEMIC.\n\nTop 10 Peoples Choice awards\, great food and m
 usic at Sam's Beach Bar\, food discounts\, goodie bags\, dash plaques and 
 T-shirts.\n\nThere will be a caravan from the Museum to Sam's Beach Bar wh
 ere the eVANt will be held.  Inquire about details at the email address be
 low.
DTSTART;TZID=America/New_York:20200405T090000
DTEND;TZID=America/New_York:20200405T160000
LOCATION:Sams Beach Bar - Hudson\, Florida
SUMMARY:3rd Annual Tax Relief Van Show
END:VEVENT
END:VCALENDAR
