BEGIN:VCALENDAR
VERSION:2.0
PRODID:-//www.vanningmuseum.com//NONSGML kigkonsult.se iCalcreator 2.30.10/
 /
CALSCALE:GREGORIAN
METHOD:PUBLISH
UID:3fcfa5d3-7a24-4eca-af95-8084b2cea9db
X-WR-CALDESC:Christmas Fundraiser for the Museum of Vanning.  Thursday Pre-
 Party Pub Crawl\, Friday night Pizza Party\,  Saturday morning Breakfast\,
  Saturday night Pot Luck - meats provided - bring a covered dish or desser
 t.  Poolside activities Friday and Saturday.  Live music Saturday - noon t
 o 10pm.  Friday & Saturday daytime shuttles to the Museum for private tour
 s.  This is a fundraising eVANt for the Museum - bring your checkbook!  Ad
 mission - $20\; $15 for active Museum Members.  Lodging: Days Inn - Port R
 ichey\; phone - 727-869-9999\; eVANt rate is $54.95/night (make sure to te
 ll the hotel that your reserving for the Museum of Vanning party).
X-WR-RELCALID:427bf7b3999ccf8bcb8760721676dc2f
X-WR-TIMEZONE:America/Chicago
BEGIN:VTIMEZONE
TZID:America/Chicago
BEGIN:STANDARD
TZNAME:CST
DTSTART:20191103T020000
TZOFFSETFROM:-0500
TZOFFSETTO:-0600
RDATE:20201101T020000
END:STANDARD
BEGIN:DAYLIGHT
TZNAME:CDT
DTSTART:20190310T020000
TZOFFSETFROM:-0600
TZOFFSETTO:-0500
RDATE:20200308T020000
RDATE:20210314T020000
END:DAYLIGHT
END:VTIMEZONE
BEGIN:VEVENT
UID:fbff5ab6-88f3-4c5b-9cb8-949b266454c1
DTSTAMP:20260420T135403Z
DESCRIPTION:Christmas Fundraiser for the Museum of Vanning.  Thursday Pre-P
 arty Pub Crawl\, Friday night Pizza Party\,  Saturday morning Breakfast\, 
 Saturday night Pot Luck - meats provided - bring a covered dish or dessert
 .  Poolside activities Friday and Saturday.  Live music Saturday - noon to
  10pm.  Friday & Saturday daytime shuttles to the Museum for private tours
 .  This is a fundraising eVANt for the Museum - bring your checkbook!  Adm
 ission - $20\; $15 for active Museum Members.  Lodging: Days Inn - Port Ri
 chey\; phone - 727-869-9999\; eVANt rate is $54.95/night (make sure to tel
 l the hotel that your reserving for the Museum of Vanning party).
DTSTART;TZID=America/Chicago:20191206T000000
DTEND;TZID=America/Chicago:20191207T235900
LOCATION:Days Inn - Port Richey\, Florida
SUMMARY:Christmas Party Fund Raiser
END:VEVENT
END:VCALENDAR
