BEGIN:VCALENDAR
VERSION:2.0
PRODID:-//www.vanningmuseum.com//NONSGML kigkonsult.se iCalcreator 2.30.10/
 /
CALSCALE:GREGORIAN
METHOD:PUBLISH
UID:afb0c575-db58-4a2b-a57b-062f1c7764fd
X-WR-CALDESC:Parking lot van show at Sam's Beach Bar\, Hudson\, Florida.  L
 ots of custom vans on display from mid morning until mid afternoon. Sponso
 red by Sam's Beach Bar and hosted by the Museum of Vanning.  Net proceeds 
 go to benefit the Museum of Vanning.  To particpate in the Van Show\, cont
 act  Joe Madonia at museumofvanning@gmail.com.
X-WR-RELCALID:df933a9e958df3045221a2eba2962f81
X-WR-TIMEZONE:America/New_York
BEGIN:VTIMEZONE
TZID:America/New_York
BEGIN:STANDARD
TZNAME:EST
DTSTART:20181104T020000
TZOFFSETFROM:-0400
TZOFFSETTO:-0500
RDATE:20191103T020000
END:STANDARD
BEGIN:DAYLIGHT
TZNAME:EDT
DTSTART:20190310T020000
TZOFFSETFROM:-0500
TZOFFSETTO:-0400
RDATE:20200308T020000
END:DAYLIGHT
END:VTIMEZONE
BEGIN:VEVENT
UID:c5106ee1-ddfe-48d3-a296-ac1f88bddf4e
DTSTAMP:20260421T035128Z
DESCRIPTION:Parking lot van show at Sam's Beach Bar\, Hudson\, Florida.  Lo
 ts of custom vans on display from mid morning until mid afternoon. Sponsor
 ed by Sam's Beach Bar and hosted by the Museum of Vanning.  Net proceeds g
 o to benefit the Museum of Vanning.  To particpate in the Van Show\, conta
 ct  Joe Madonia at museumofvanning@gmail.com.
DTSTART;TZID=America/New_York:20190414T000000
DTEND;TZID=America/New_York:20190414T235900
LOCATION:Sam's Beach Bar
SUMMARY:2nd Annual Tax Relief Van Show
END:VEVENT
END:VCALENDAR
