BEGIN:VCALENDAR
VERSION:2.0
PRODID:-//www.vanningmuseum.com//NONSGML kigkonsult.se iCalcreator 2.30.10/
 /
CALSCALE:GREGORIAN
METHOD:PUBLISH
UID:20357801-e72b-4f74-94af-37b8c247ce91
X-WR-CALDESC:Annual Christmas Party to raise funds for the Museum.  See fly
 er above.  Contact the Museum directly for details.
X-WR-RELCALID:f1199defaadda92e66f8c0748278b079
X-WR-TIMEZONE:America/New_York
BEGIN:VTIMEZONE
TZID:America/New_York
BEGIN:STANDARD
TZNAME:EST
DTSTART:20181104T020000
TZOFFSETFROM:-0400
TZOFFSETTO:-0500
RDATE:20191103T020000
END:STANDARD
BEGIN:DAYLIGHT
TZNAME:EDT
DTSTART:20180311T020000
TZOFFSETFROM:-0500
TZOFFSETTO:-0400
RDATE:20190310T020000
RDATE:20200308T020000
END:DAYLIGHT
END:VTIMEZONE
BEGIN:VEVENT
UID:67abc475-db01-491e-8915-49f949ba6b0c
DTSTAMP:20260421T105643Z
DESCRIPTION:Annual Christmas Party to raise funds for the Museum.  See flye
 r above.  Contact the Museum directly for details.
DTSTART;TZID=America/New_York:20181207T000000
DTEND;TZID=America/New_York:20181209T235900
LOCATION:At the Museum - Hudson\, Florida
SUMMARY:Annual Christmas Fundraiser
END:VEVENT
END:VCALENDAR
